BEGIN:VCALENDAR
VERSION:2.0
PRODID:-//Rugby Club Unterföhring e.V. - ECPv6.15.20//NONSGML v1.0//EN
CALSCALE:GREGORIAN
METHOD:PUBLISH
X-WR-CALNAME:Rugby Club Unterföhring e.V.
X-ORIGINAL-URL:https://www.rugby-unterfoehring.de/en
X-WR-CALDESC:Events for Rugby Club Unterföhring e.V.
REFRESH-INTERVAL;VALUE=DURATION:PT1H
X-Robots-Tag:noindex
X-PUBLISHED-TTL:PT1H
BEGIN:VTIMEZONE
TZID:Europe/Berlin
BEGIN:DAYLIGHT
TZOFFSETFROM:+0100
TZOFFSETTO:+0200
TZNAME:CEST
DTSTART:20250330T010000
END:DAYLIGHT
BEGIN:STANDARD
TZOFFSETFROM:+0200
TZOFFSETTO:+0100
TZNAME:CET
DTSTART:20251026T010000
END:STANDARD
BEGIN:DAYLIGHT
TZOFFSETFROM:+0100
TZOFFSETTO:+0200
TZNAME:CEST
DTSTART:20260329T010000
END:DAYLIGHT
BEGIN:STANDARD
TZOFFSETFROM:+0200
TZOFFSETTO:+0100
TZNAME:CET
DTSTART:20261025T010000
END:STANDARD
BEGIN:DAYLIGHT
TZOFFSETFROM:+0100
TZOFFSETTO:+0200
TZNAME:CEST
DTSTART:20270328T010000
END:DAYLIGHT
BEGIN:STANDARD
TZOFFSETFROM:+0200
TZOFFSETTO:+0100
TZNAME:CET
DTSTART:20271031T010000
END:STANDARD
END:VTIMEZONE
BEGIN:VEVENT
DTSTART;TZID=Europe/Berlin:20260419T110000
DTEND;TZID=Europe/Berlin:20260419T170000
DTSTAMP:20260420T144459
CREATED:20260204T212105Z
LAST-MODIFIED:20260204T212556Z
UID:1979-1776596400-1776618000@www.rugby-unterfoehring.de
SUMMARY:U6 - U14 | Jugendturnier in Unterföhring
DESCRIPTION:
URL:https://www.rugby-unterfoehring.de/en/rcu-kalender/u6-u14-jugendturnier-in-unterfoehring/
LOCATION:RCU Rugbypark\, Am Etzweg\, Unterföhring\, Bayern\, 85774\, Deutschland
CATEGORIES:Jugend U6-14,Ligabetrieb
END:VEVENT
BEGIN:VEVENT
DTSTART;TZID=Europe/Berlin:20260419T080000
DTEND;TZID=Europe/Berlin:20260419T170000
DTSTAMP:20260420T144459
CREATED:20260226T073205Z
LAST-MODIFIED:20260226T073205Z
UID:1999-1776585600-1776618000@www.rugby-unterfoehring.de
SUMMARY:Deutscher Rugby Tag 2026
DESCRIPTION:
URL:https://www.rugby-unterfoehring.de/en/rcu-kalender/deutscher-rugby-tag-2026/
LOCATION:Sportschule Wedau in Duisburg
CATEGORIES:RCU Vereinstermine
END:VEVENT
BEGIN:VEVENT
DTSTART;TZID=Europe/Berlin:20260411T150000
DTEND;TZID=Europe/Berlin:20260411T173000
DTSTAMP:20260420T144459
CREATED:20260112T142458Z
LAST-MODIFIED:20260112T142458Z
UID:1922-1775919600-1775928600@www.rugby-unterfoehring.de
SUMMARY:Herren | 2. Bundesliga RC Unterföhring – RK Heusenstamm
DESCRIPTION:
URL:https://www.rugby-unterfoehring.de/en/rcu-kalender/herren-2-bundesliga-rc-unterfoehring-rk-heusenstamm/
LOCATION:Unterföhring
CATEGORIES:Ligabetrieb,Herren - 2. Bundesliga Süd
END:VEVENT
BEGIN:VEVENT
DTSTART;TZID=Europe/Berlin:20260411T143000
DTEND;TZID=Europe/Berlin:20260411T170000
DTSTAMP:20260420T144459
CREATED:20260112T145326Z
LAST-MODIFIED:20260112T145326Z
UID:1953-1775917800-1775926800@www.rugby-unterfoehring.de
SUMMARY:Herren | Landesliga TSV 1861 Nördlingen - RC Unterföhring II
DESCRIPTION:
URL:https://www.rugby-unterfoehring.de/en/rcu-kalender/herren-landesliga-tsv-1861-noerdlingen-rc-unterfoehring-ii/
CATEGORIES:Ligabetrieb,Herren - SG RCU/TuS FFB - Landesliga Bayern
END:VEVENT
BEGIN:VEVENT
DTSTART;TZID=Europe/Berlin:20260328T140000
DTEND;TZID=Europe/Berlin:20260328T163000
DTSTAMP:20260420T144459
CREATED:20260112T142302Z
LAST-MODIFIED:20260112T142302Z
UID:1917-1774706400-1774715400@www.rugby-unterfoehring.de
SUMMARY:Herren | 2. Bundesliga Heidelberger TV - RC Unterföhring
DESCRIPTION:
URL:https://www.rugby-unterfoehring.de/en/rcu-kalender/herren-2-bundesliga-heidelberger-tv-rc-unterfoehring/
LOCATION:HTV Rugby Platz\, Carl-Bosch-Str. 10\, Heidelberg\, Baden-Württemberg\, 69115
CATEGORIES:Ligabetrieb,Herren - 2. Bundesliga Süd
END:VEVENT
BEGIN:VEVENT
DTSTART;TZID=Europe/Berlin:20260322T130000
DTEND;TZID=Europe/Berlin:20260322T143000
DTSTAMP:20260420T144459
CREATED:20260112T143219Z
LAST-MODIFIED:20260204T101831Z
UID:1931-1774184400-1774189800@www.rugby-unterfoehring.de
SUMMARY:Jugend U16 | TSV Handschuhsheim/RC Unterföhring - Rhein-Main Barbarians
DESCRIPTION:
URL:https://www.rugby-unterfoehring.de/en/rcu-kalender/jugend-u16-tsv-handschuhsheim-rc-unterfoehring-rhein-main-barbarians/
LOCATION:RCU Rugbypark\, Am Etzweg\, Unterföhring\, Bayern\, 85774\, Deutschland
CATEGORIES:Ligabetrieb,Jugend U16/U18/U20
END:VEVENT
BEGIN:VEVENT
DTSTART;TZID=Europe/Berlin:20260321T140000
DTEND;TZID=Europe/Berlin:20260321T160000
DTSTAMP:20260420T144459
CREATED:20260112T145200Z
LAST-MODIFIED:20260320T121652Z
UID:1950-1774101600-1774108800@www.rugby-unterfoehring.de
SUMMARY:Herren | Landesliga RC Unterföhring II - SG Würzburg/Ingolstadt
DESCRIPTION:
URL:https://www.rugby-unterfoehring.de/en/rcu-kalender/herren-landesliga-rc-unterfoehring-ii-sg-wuerzburg-ingolstadt/
LOCATION:Unterföhring
CATEGORIES:Ligabetrieb,Herren - SG RCU/TuS FFB - Landesliga Bayern
END:VEVENT
BEGIN:VEVENT
DTSTART;TZID=Europe/Berlin:20260314T140000
DTEND;TZID=Europe/Berlin:20260314T163000
DTSTAMP:20260420T144459
CREATED:20260112T142149Z
LAST-MODIFIED:20260204T102156Z
UID:1914-1773496800-1773505800@www.rugby-unterfoehring.de
SUMMARY:Herren | 2. Bundesliga RC Unterföhring - RC Walferdange
DESCRIPTION:
URL:https://www.rugby-unterfoehring.de/en/rcu-kalender/herren-2-bundesliga-rc-unterfoehring-rc-walferdange/
LOCATION:Unterföhring
CATEGORIES:Ligabetrieb,Herren - 2. Bundesliga Süd
END:VEVENT
BEGIN:VEVENT
DTSTART;TZID=Europe/Berlin:20260308T110000
DTEND;TZID=Europe/Berlin:20260308T160000
DTSTAMP:20260420T144459
CREATED:20260203T074609Z
LAST-MODIFIED:20260203T074609Z
UID:1956-1772967600-1772985600@www.rugby-unterfoehring.de
SUMMARY:Bayrischer Rugby Tag 2026
DESCRIPTION:
URL:https://www.rugby-unterfoehring.de/en/rcu-kalender/bayrischer-rugby-tag-2026/
LOCATION:Edeka Unterföhring\, Feringastraße 16\, Unterföhring\, 85774\, Germany
CATEGORIES:RCU Vereinstermine
END:VEVENT
BEGIN:VEVENT
DTSTART;TZID=Europe/Berlin:20260307T140000
DTEND;TZID=Europe/Berlin:20260307T163000
DTSTAMP:20260420T144459
CREATED:20260112T141915Z
LAST-MODIFIED:20260112T141915Z
UID:1907-1772892000-1772901000@www.rugby-unterfoehring.de
SUMMARY:Herren | 2. Bundesliga RSV Köln – RC Unterföhring
DESCRIPTION:
URL:https://www.rugby-unterfoehring.de/en/rcu-kalender/herren-2-bundesliga-rsv-koeln-rc-unterfoehring/
LOCATION:Köln
CATEGORIES:Ligabetrieb,Herren - 2. Bundesliga Süd
END:VEVENT
BEGIN:VEVENT
DTSTART;TZID=Europe/Berlin:20260208T120000
DTEND;TZID=Europe/Berlin:20260208T143000
DTSTAMP:20260420T144459
CREATED:20260112T143429Z
LAST-MODIFIED:20260112T143429Z
UID:1934-1770552000-1770561000@www.rugby-unterfoehring.de
SUMMARY:Jugend U16 | TSV Handschuhsheim/RC Unterföhring - SC Frankfurt 1880
DESCRIPTION:
URL:https://www.rugby-unterfoehring.de/en/rcu-kalender/jugend-u16-tsv-handschuhsheim-rc-unterfoehring-sc-frankfurt-1880/
CATEGORIES:Ligabetrieb,Jugend U16/U18/U20
END:VEVENT
END:VCALENDAR